BEGIN:VCALENDAR
VERSION:2.0
PRODID:-//heisingen.de - ECPv6.15.20//NONSGML v1.0//EN
CALSCALE:GREGORIAN
METHOD:PUBLISH
X-ORIGINAL-URL:https://heisingen.de
X-WR-CALDESC:Veranstaltungen für heisingen.de
REFRESH-INTERVAL;VALUE=DURATION:PT1H
X-Robots-Tag:noindex
X-PUBLISHED-TTL:PT1H
BEGIN:VTIMEZONE
TZID:Europe/Berlin
BEGIN:DAYLIGHT
TZOFFSETFROM:+0100
TZOFFSETTO:+0200
TZNAME:CEST
DTSTART:20220327T010000
END:DAYLIGHT
BEGIN:STANDARD
TZOFFSETFROM:+0200
TZOFFSETTO:+0100
TZNAME:CET
DTSTART:20221030T010000
END:STANDARD
BEGIN:DAYLIGHT
TZOFFSETFROM:+0100
TZOFFSETTO:+0200
TZNAME:CEST
DTSTART:20230326T010000
END:DAYLIGHT
BEGIN:STANDARD
TZOFFSETFROM:+0200
TZOFFSETTO:+0100
TZNAME:CET
DTSTART:20231029T010000
END:STANDARD
BEGIN:DAYLIGHT
TZOFFSETFROM:+0100
TZOFFSETTO:+0200
TZNAME:CEST
DTSTART:20240331T010000
END:DAYLIGHT
BEGIN:STANDARD
TZOFFSETFROM:+0200
TZOFFSETTO:+0100
TZNAME:CET
DTSTART:20241027T010000
END:STANDARD
END:VTIMEZONE
BEGIN:VEVENT
DTSTART;TZID=Europe/Berlin:20230603T120000
DTEND;TZID=Europe/Berlin:20230603T200000
DTSTAMP:20260421T143601
CREATED:20230507T120734Z
LAST-MODIFIED:20230507T120734Z
UID:1438-1685793600-1685822400@heisingen.de
SUMMARY:40 Jahre Bürgerschaft – Sommerfest!
DESCRIPTION:Die Bürgerschaft Heisingen wird in diesem Jahr 40 Jahre alt. Das möchten wir mit allen Heisingerinnen und Heisingern auf dem Marktplatz und drumherum feiern. \nDafür haben wir uns Musiker eingeladen: Zum einen den Spielmannszug Blau-Weiß und das Freie Orchester Heisingen\, zum anderen tritt ab 17.00 Uhr die Heisinger Band „Joyriders“ auf. \nNatürlich ist auch für das leibliche Wohl gesorgt: Die freiwillige Feuerwehr bereitet Leckereien vom Grill. Der Ernährungsrat Essen bietet Stullen mit Kräuterpesto an. Im AWO-Café im Rathaus gibt es Kaffee und Kuchen. Beim Spielmannszug Blau-Weiß kann man Bier und alkoholfreie Getränke genießen und die GKG Gemütlichkeit hat Cocktails\, Sekt und Wein im Angebot. \nUnd auch für die Kinder ist gesorgt: Auf dem angrenzenden Spielplatz gibt es ein Fest der Spielplatzpagen und auch das Spielmobil des Kinderschutzbundes ist wieder vor Ort. \nInformationsstände gibt es von der Bürgerschaft\, dem Bergbau- und Heimatmuseum\, „Unser Heisingen“\, Seniorennetzwerk Heisingen\, Heisingen klimaneutral! \nWir freuen uns auf viele BesucherInnen und ein rauschendes Fest!
URL:https://heisingen.de/event/40-jahre-buergerschaft-sommerfest/
LOCATION:Marktplatz Heisingen\, Hagmanngarten 5\, Essen\, NRW\, 45259
ATTACH;FMTTYPE=image/jpeg:https://heisingen.de/wp-content/uploads/2023/05/sommerkonzert-2023-Kopie-scaled.jpg
END:VEVENT
END:VCALENDAR