BEGIN:VCALENDAR
VERSION:2.0
PRODID:-//heisingen.de - ECPv6.15.20//NONSGML v1.0//EN
CALSCALE:GREGORIAN
METHOD:PUBLISH
X-ORIGINAL-URL:https://heisingen.de
X-WR-CALDESC:Veranstaltungen für heisingen.de
REFRESH-INTERVAL;VALUE=DURATION:PT1H
X-Robots-Tag:noindex
X-PUBLISHED-TTL:PT1H
BEGIN:VTIMEZONE
TZID:Europe/Berlin
BEGIN:DAYLIGHT
TZOFFSETFROM:+0100
TZOFFSETTO:+0200
TZNAME:CEST
DTSTART:20230326T010000
END:DAYLIGHT
BEGIN:STANDARD
TZOFFSETFROM:+0200
TZOFFSETTO:+0100
TZNAME:CET
DTSTART:20231029T010000
END:STANDARD
BEGIN:DAYLIGHT
TZOFFSETFROM:+0100
TZOFFSETTO:+0200
TZNAME:CEST
DTSTART:20240331T010000
END:DAYLIGHT
BEGIN:STANDARD
TZOFFSETFROM:+0200
TZOFFSETTO:+0100
TZNAME:CET
DTSTART:20241027T010000
END:STANDARD
BEGIN:DAYLIGHT
TZOFFSETFROM:+0100
TZOFFSETTO:+0200
TZNAME:CEST
DTSTART:20250330T010000
END:DAYLIGHT
BEGIN:STANDARD
TZOFFSETFROM:+0200
TZOFFSETTO:+0100
TZNAME:CET
DTSTART:20251026T010000
END:STANDARD
END:VTIMEZONE
BEGIN:VEVENT
DTSTART;TZID=Europe/Berlin:20240825T150000
DTEND;TZID=Europe/Berlin:20240825T170000
DTSTAMP:20260423T100820
CREATED:20240823T072431Z
LAST-MODIFIED:20240823T072532Z
UID:1892-1724598000-1724605200@heisingen.de
SUMMARY:Ökumenischer Tiersegnungs- und Tierschutzgottesdienst
DESCRIPTION:Herzliche Einladung zu unserem Gottesdienst mit anschließendem Beisammensein
URL:https://heisingen.de/event/oekumenischer-tiersegnungs-und-tierschutzgottesdienst/
LOCATION:Pauluskirche\, Stemmering 15\, Essen\, NRW\, 45259\, Deutschland
ATTACH;FMTTYPE=image/jpeg:https://heisingen.de/wp-content/uploads/2024/08/Teirsegnung24.jpg
END:VEVENT
END:VCALENDAR