BEGIN:VCALENDAR
VERSION:2.0
PRODID:-//heisingen.de - ECPv6.15.20//NONSGML v1.0//EN
CALSCALE:GREGORIAN
METHOD:PUBLISH
X-ORIGINAL-URL:https://heisingen.de
X-WR-CALDESC:Veranstaltungen für heisingen.de
REFRESH-INTERVAL;VALUE=DURATION:PT1H
X-Robots-Tag:noindex
X-PUBLISHED-TTL:PT1H
BEGIN:VTIMEZONE
TZID:Europe/Berlin
BEGIN:DAYLIGHT
TZOFFSETFROM:+0100
TZOFFSETTO:+0200
TZNAME:CEST
DTSTART:20230326T010000
END:DAYLIGHT
BEGIN:STANDARD
TZOFFSETFROM:+0200
TZOFFSETTO:+0100
TZNAME:CET
DTSTART:20231029T010000
END:STANDARD
BEGIN:DAYLIGHT
TZOFFSETFROM:+0100
TZOFFSETTO:+0200
TZNAME:CEST
DTSTART:20240331T010000
END:DAYLIGHT
BEGIN:STANDARD
TZOFFSETFROM:+0200
TZOFFSETTO:+0100
TZNAME:CET
DTSTART:20241027T010000
END:STANDARD
BEGIN:DAYLIGHT
TZOFFSETFROM:+0100
TZOFFSETTO:+0200
TZNAME:CEST
DTSTART:20250330T010000
END:DAYLIGHT
BEGIN:STANDARD
TZOFFSETFROM:+0200
TZOFFSETTO:+0100
TZNAME:CET
DTSTART:20251026T010000
END:STANDARD
END:VTIMEZONE
BEGIN:VEVENT
DTSTART;TZID=Europe/Berlin:20240902T200000
DTEND;TZID=Europe/Berlin:20240902T213000
DTSTAMP:20260422T231921
CREATED:20240807T161321Z
LAST-MODIFIED:20240807T161634Z
UID:1879-1725307200-1725312600@heisingen.de
SUMMARY:Gospel Kollektiv im Tongelage
DESCRIPTION:Nach der Sommerpause startet das Tongelage im Heisinger Ratssaal (Hagmanngarten 5) am 02.09.2024 mit Gospelmusik vom Feinsten. \nDas Gospel Kollektiv wurde 2022 von Sängerin Mara Minjoli und dem Pianisten Lukasz Flakus gegründet\, welche sich aus dem Jazz-Studium an der Folkwang-Universität der Künste kennen. Beide teilen die große Leidenschaft für Gospel-Chöre und beschlossen ein professionelles Gospel-Ensemble zu gründen. Mit dieser Idee wandten sie sich an Sängerinnen und Sänger\, die sie aus Studium und Beruf kennen. Von der Idee des gemeinsamen Singens waren alle von Anfang an begeistert.\nDas Ensemble präsentiert moderne Gospel-Musik. Im Repertoire sind vor allem Stücke von Kirk Franklin und dem Sunday Service Collective vertreten.\nDas Besondere an diesem Ensemble ist die einzigartige Energie\, die einerseits durch den Spirit der Musik und andererseits durch die Professionalität und die Freude am gemeinsamen Musizieren getragen wird. \nDas Konzert beginnt um 20 Uhr (Einlass 19.30 Uhr). Der Eintritt ist frei\, Spenden sind herzlich willkommen.
URL:https://heisingen.de/event/gospel-kollektiv-im-tongelage/
END:VEVENT
BEGIN:VEVENT
DTSTART;TZID=Europe/Berlin:20240915T110000
DTEND;TZID=Europe/Berlin:20240915T130000
DTSTAMP:20260422T231921
CREATED:20240829T092956Z
LAST-MODIFIED:20240829T092956Z
UID:1908-1726398000-1726405200@heisingen.de
SUMMARY:Ruhr Clean Up in Heisingen am Sonntag\, 15. September 2024
DESCRIPTION:Zusammen machen wir an der Ruhr sauber – von der Quelle bis zur Mündung. Und auch in Heisingen beteiligen sich die Bürgerschaft und Heisingen-klimaneutral an diesem Projekt! \nBis zum Jahr 2050 wird in den Weltmeeren die Masse des Plastikmülls größer sein als der Fischbestand. Jährlich kommen nach aktuellen Berechnungen ca. 8 Milliarden Kilogramm hinzu\, seriöse Forscher sprechen sogar schon von 13 Milliarden Kilogramm. Das ist ein ernstzunehmendes Problem\, das sowohl gesundheitsschädigende Auswirkungen auf die Meeresbewohner als auch auf uns Menschen haben wird. \n\n  \nWir konzentrieren uns auf Flüsse\, denn 70 Prozent des Plastikmülls gelangt über die Flüsse in den Meeren. Auch hier in Europa ist das Problem erschreckend. \nDeshalb treffen wir uns am Sonntag\, 15. September um 11 Uhr am Anleger der „Weißen Flotte“.
URL:https://heisingen.de/event/ruhr-clean-up-in-heisingen-am-sonntag-15-september-2024/
LOCATION:Anlegestelle „Heisingen“ der Weißen Flotte\, Lanfermannfähre 92\, Essen\, NRW\, 45259\, Deutschland
ATTACH;FMTTYPE=image/jpeg:https://heisingen.de/wp-content/uploads/2024/08/ruhr-clean-up2024-scaled.jpg
END:VEVENT
BEGIN:VEVENT
DTSTART;TZID=Europe/Berlin:20240926T150000
DTEND;TZID=Europe/Berlin:20240926T163000
DTSTAMP:20260422T231921
CREATED:20240830T215445Z
LAST-MODIFIED:20240919T132545Z
UID:1913-1727362800-1727368200@heisingen.de
SUMMARY:Spielenachmittag für ALLE
DESCRIPTION:Der Mehrgenerationenkreis lädt ein zu einer großen Auswahl an Spielen.
URL:https://heisingen.de/event/spielenachmittag-fuer-alle/
LOCATION:Evang. Gemeindezentrum\, Stemmering 20\, Essen-Heisingen\, NRW\, 45259
ATTACH;FMTTYPE=image/jpeg:https://heisingen.de/wp-content/uploads/2024/08/Spielenachmittag24.jpg
END:VEVENT
BEGIN:VEVENT
DTSTART;TZID=Europe/Berlin:20240928T100000
DTEND;TZID=Europe/Berlin:20240928T120000
DTSTAMP:20260422T231921
CREATED:20240830T215138Z
LAST-MODIFIED:20240830T215138Z
UID:1910-1727517600-1727524800@heisingen.de
SUMMARY:Allerlei-Kinder-Sachen-Markt
DESCRIPTION:Unser beliebter Second-Hand-Markt in der Carl Funke Schule: bestens vorsortierte und gut erhaltene Ware in insgesamt acht Klassenzimmern präsentiert. Entspanntes Schnäppchen-Jagen! Alles für Babys\, Kinder und Teens!  Schwangere dürfen 15 Minuten früher shoppen. \nBild: Allerlei-Kinder-Sachen-Markt-Flyer-Kaeufer-09.20242.jpeg
URL:https://heisingen.de/event/allerlei-kinder-sachen-markt/
LOCATION:Carl-Funke-Schule\, Baderweg 24\, Essen\, NRW\, 45259\, Deutschland
ATTACH;FMTTYPE=image/jpeg:https://heisingen.de/wp-content/uploads/2024/08/Allerlei-Kinder-Sachen-Markt-Flyer-Kaeufer-09.20242.jpeg
ORGANIZER;CN="F%C3%B6rderverein der Carl-Funke-Schule":MAILTO:mail@fv-cfs.de
END:VEVENT
END:VCALENDAR