BEGIN:VCALENDAR
VERSION:2.0
PRODID:-//heisingen.de - ECPv6.15.20//NONSGML v1.0//EN
CALSCALE:GREGORIAN
METHOD:PUBLISH
X-WR-CALNAME:heisingen.de
X-ORIGINAL-URL:https://heisingen.de
X-WR-CALDESC:Veranstaltungen für heisingen.de
REFRESH-INTERVAL;VALUE=DURATION:PT1H
X-Robots-Tag:noindex
X-PUBLISHED-TTL:PT1H
BEGIN:VTIMEZONE
TZID:Europe/Berlin
BEGIN:DAYLIGHT
TZOFFSETFROM:+0100
TZOFFSETTO:+0200
TZNAME:CEST
DTSTART:20230326T010000
END:DAYLIGHT
BEGIN:STANDARD
TZOFFSETFROM:+0200
TZOFFSETTO:+0100
TZNAME:CET
DTSTART:20231029T010000
END:STANDARD
BEGIN:DAYLIGHT
TZOFFSETFROM:+0100
TZOFFSETTO:+0200
TZNAME:CEST
DTSTART:20240331T010000
END:DAYLIGHT
BEGIN:STANDARD
TZOFFSETFROM:+0200
TZOFFSETTO:+0100
TZNAME:CET
DTSTART:20241027T010000
END:STANDARD
BEGIN:DAYLIGHT
TZOFFSETFROM:+0100
TZOFFSETTO:+0200
TZNAME:CEST
DTSTART:20250330T010000
END:DAYLIGHT
BEGIN:STANDARD
TZOFFSETFROM:+0200
TZOFFSETTO:+0100
TZNAME:CET
DTSTART:20251026T010000
END:STANDARD
END:VTIMEZONE
BEGIN:VEVENT
DTSTART;TZID=Europe/Berlin:20241007T200000
DTEND;TZID=Europe/Berlin:20241007T213000
DTSTAMP:20260422T200133
CREATED:20240910T163616Z
LAST-MODIFIED:20240919T071013Z
UID:1922-1728331200-1728336600@heisingen.de
SUMMARY:My Baby Just Cares for Me
DESCRIPTION:Das Tongelage im Heisinger Ratssaal (Hagmanngarten 5) hat am 07.10.2024 Simone Helle (Gesang) und Martin Scholz (Piano) zu Gast. \n„My Baby Just Cares for Me“ ist ein Titel\, der insbesondere durch Nina Simone bekannt wurde. Die Künstler tauchen mit ihrem Programm ein in den Jazz und Soul um Nina Simone\, Billy Preston\, Georgie Fame und Jimmy Smith. Auch aktuelle Jazz-Titel aus eigener Feder werden zu hören sein. Gefühlvoll wie mitreißend kreieren sie Atmosphären von Blues\, Swing und Uptempo. Angereichert mit Instrumental-Imitation und perkussiven Elementen präsentieren Simone Helle und Martin Scholz variationsreich das Programm und spannen so ihren musikalischen Bogen von der Jazz- und Soul-Ära der 60er und 70er-Jahre bis hin zur heutigen Zeit. \nDas Konzert beginnt um 20 Uhr (Einlass 19.30 Uhr). Der Eintritt ist frei\, Spenden sind herzlich willkommen. \n 
URL:https://heisingen.de/event/my-baby-just-cares-for-me/
LOCATION:Altes Rathaus Heisingen\, Hagmanngarten 5\, Heisingen\, NRW\, 45259\, Deutschland
ATTACH;FMTTYPE=image/png:https://heisingen.de/wp-content/uploads/2024/09/My_Baby_Just_Cares_For_Me.png
END:VEVENT
BEGIN:VEVENT
DTSTART;TZID=Europe/Berlin:20241010T143000
DTEND;TZID=Europe/Berlin:20241010T170000
DTSTAMP:20260422T200133
CREATED:20241002T154035Z
LAST-MODIFIED:20241002T154035Z
UID:1958-1728570600-1728579600@heisingen.de
SUMMARY:... und am Donnerstag geht's zur AWO!
DESCRIPTION:Ab 10. Oktober von 14.30 – 17.00 Uhr zum stricken\, häkeln oder sticken … oder auch einfach nur gemütlich beisammen sitzen
URL:https://heisingen.de/event/und-am-donnerstag-gehts-zur-awo/
LOCATION:Altes Rathaus Heisingen\, Hagmanngarten 5\, Heisingen\, NRW\, 45259\, Deutschland
ATTACH;FMTTYPE=image/jpeg:https://heisingen.de/wp-content/uploads/2024/10/WhatsApp-Image-2024-10-02-at-13.02.49.jpeg
ORGANIZER;CN="AWO Essen-Heisingen":MAILTO:schwarzer.heisingen@t-online.de
END:VEVENT
BEGIN:VEVENT
DTSTART;TZID=Europe/Berlin:20241027T150000
DTEND;TZID=Europe/Berlin:20241027T170000
DTSTAMP:20260422T200133
CREATED:20240930T060900Z
LAST-MODIFIED:20240930T060900Z
UID:1956-1730041200-1730048400@heisingen.de
SUMMARY:Historischer Spaziergang durch Heisingen
DESCRIPTION:Auf Wunsch einiger Einwohner gibt es einen neuen „Historischen Spaziergang“ durch das dörfliche Heisingen. Auf diesem kurzweiligen Rundgang macht Henner Höcker\, Vorsitzender der Bürgerschaft Heisingen e.V.\, auf die Spuren Heisingens als Bauerndorf aufmerksam. Er erklärt die Entwicklung von dort zum Bergbauort bis zum heutigen begehrten Wohnort. \nDieser „Spaziergang“ ist sowohl für alteingesessene Heisingerinnen und Heisinger\, als auch für neu Zugezogene\, sogenannte „Rucksack-HeisingerInnen“ interessant\, denn Henner Höcker kennt so manches Detail\, das nicht allgemein bekannt ist. Von der frühmittelalterlichen Feste bis zu den neugeplanten Bauprojekten geht die Tour vorbei an der Jugendhalle\, Fachwerkgebäuden und endet im Rathaus. \nDer Rundgang dauert etwa 90 Minuten. Treffpunkt ist der Dorfbrunnen. \nEine Anmeldung ist nicht notwendig. Die Stadtteilführung ist kostenlos.
URL:https://heisingen.de/event/historischer-spaziergang-durch-heisingen/
LOCATION:Dorfbrunnen\, Schangstraße 2\, Essen-Heisingen\, NRW\, 45259\, Deutschland
ATTACH;FMTTYPE=image/jpeg:https://heisingen.de/wp-content/uploads/2024/02/Dorfrundganz-24.9.2023-2.jpg
END:VEVENT
END:VCALENDAR