BEGIN:VCALENDAR
VERSION:2.0
PRODID:-//heisingen.de - ECPv6.15.20//NONSGML v1.0//EN
CALSCALE:GREGORIAN
METHOD:PUBLISH
X-ORIGINAL-URL:https://heisingen.de
X-WR-CALDESC:Veranstaltungen für heisingen.de
REFRESH-INTERVAL;VALUE=DURATION:PT1H
X-Robots-Tag:noindex
X-PUBLISHED-TTL:PT1H
BEGIN:VTIMEZONE
TZID:Europe/Berlin
BEGIN:DAYLIGHT
TZOFFSETFROM:+0100
TZOFFSETTO:+0200
TZNAME:CEST
DTSTART:20230326T010000
END:DAYLIGHT
BEGIN:STANDARD
TZOFFSETFROM:+0200
TZOFFSETTO:+0100
TZNAME:CET
DTSTART:20231029T010000
END:STANDARD
BEGIN:DAYLIGHT
TZOFFSETFROM:+0100
TZOFFSETTO:+0200
TZNAME:CEST
DTSTART:20240331T010000
END:DAYLIGHT
BEGIN:STANDARD
TZOFFSETFROM:+0200
TZOFFSETTO:+0100
TZNAME:CET
DTSTART:20241027T010000
END:STANDARD
BEGIN:DAYLIGHT
TZOFFSETFROM:+0100
TZOFFSETTO:+0200
TZNAME:CEST
DTSTART:20250330T010000
END:DAYLIGHT
BEGIN:STANDARD
TZOFFSETFROM:+0200
TZOFFSETTO:+0100
TZNAME:CET
DTSTART:20251026T010000
END:STANDARD
END:VTIMEZONE
BEGIN:VEVENT
DTSTART;TZID=Europe/Berlin:20241201T170000
DTEND;TZID=Europe/Berlin:20241201T180000
DTSTAMP:20260422T170119
CREATED:20241114T211515Z
LAST-MODIFIED:20241125T134735Z
UID:2006-1733072400-1733076000@heisingen.de
SUMMARY:Adventskonzert des Freien Orchesters Heisingen
DESCRIPTION:Am 1. Dezember 2024\, dem 1. Advent um 17.00 Uhr ist es in der Pauluskirche in Heisingen wieder so weit: Das Freie Orchester Heisingen gibt auch in diesem Jahr ein Konzert mit weihnachtlicher Musik.  \nGespielt  wird Musik von G.F. Händel und natürlich gibt es auch wieder Weihnachtslieder – dazu sind alle herzlich eingeladen\, mitzusingen. Einen weiteren Schwerpunkt mit Weihnachtsliedern werden die Gitarren setzen. \nMit dabei ist\, wie im letzten Jahr\, der Trompeter Achim Sturm.  \nAlle Arrangements wurden von Egbert Lachnitt geschrieben\, der auch das Orchester leitet. \nDas Konzert dauert eine Stunde. Der Eintritt ist frei\, Spenden sind herzlich willkommen. \nSchirmherrin ist die Bürgerschaft Heisingen.
URL:https://heisingen.de/event/adventskonzert-des-freien-orchesters-heisingen/
LOCATION:Paulushof\, Stemmering 18\, Essen-Heisingen\, NRW\, 45259\, Deutschland
ATTACH;FMTTYPE=image/jpeg:https://heisingen.de/wp-content/uploads/2024/11/FOH-in-der-Pauluskirche-.jpg
END:VEVENT
BEGIN:VEVENT
DTSTART;TZID=Europe/Berlin:20241202T200000
DTEND;TZID=Europe/Berlin:20241202T213000
DTSTAMP:20260422T170119
CREATED:20241109T223519Z
LAST-MODIFIED:20241124T121153Z
UID:1982-1733169600-1733175000@heisingen.de
SUMMARY:"Jazz and more" im Tongelage
DESCRIPTION:Traditionell treten im letzten Tongelage des Jahres Michael Mehlhorn (Gesang) und Winni Slütters (Piano) mit einem bunten Mix von Jazz-Standards auf. Am Montag\, den 2. Dezember sind zusätzlich musikalische Gäste geladen. Mit Anna an der Brügge (Gesang) und Nils Linnhöfer (Gesang/Ukulele) wird es „Jazz and more“ mit Ausflügen in Pop\, Musical und Filmmusik. \nDer Eintritt ist wie immer frei\, Spenden sind natürlich herzlich willkommen. Das Konzert im Heisinger Ratssaal (Hagmanngarten 5) beginnt um 20 Uhr\, Einlass ist um 19.30 Uhr.
URL:https://heisingen.de/event/jazz-and-more-im-tongelage/
ATTACH;FMTTYPE=image/jpeg:https://heisingen.de/wp-content/uploads/2024/11/Dezembertongelage.jpg
END:VEVENT
BEGIN:VEVENT
DTSTART;TZID=Europe/Berlin:20241215T160000
DTEND;TZID=Europe/Berlin:20241215T170000
DTSTAMP:20260422T170119
CREATED:20241210T074917Z
LAST-MODIFIED:20241210T074917Z
UID:2027-1734278400-1734282000@heisingen.de
SUMMARY:Weihnachtskonzert
DESCRIPTION:Sonntag ∙ 15. Dezember \nBeginn 16 Uhr ∙ Einlass 15:30 Uhr \nGemeindekirche Herz Jesu\, Essen-Burgaltendorf \nAlte Hauptstr. 61 ∙ 45289 Essen \nWerke von Buxtehude\, Bach\, Distler\, Brahms u. a. \nAusführende: Chorgemeinschaft Herz Jesu\, Burgaltendorf \nKirchenchor an St. Georg\, Heisingen \nSopran: Lea Ostgathe \nTenor: Bjarne Faber \nBasso continuo: Gereon Georg \nOrchester: collegium musicale \nLeitung: Joachim Galemann \nGesamtleitung: Dirk Homberg \nEintritt: 15:00 € \nPfarrei St. Josef Essen Ruhrhalbinsel \nVorverkauf: Gemeindebücherei und „Kleine Bücherwelt“\, Burgaltendorf \nOptik Schwalen\, Heisingen·Chormitglieder \nBitte beachten Sie\, dass während des Konzertes Bild- und Tonaufnahmen erstellt werden\, zu deren \nTeilveröffentlichung Sie sich durch Ihren Konzertbesuch bereit erklären. \nMit freundlicher Unterstützung durch die BV VIII Ruhrhalbinsel
URL:https://heisingen.de/event/weihnachtskonzert-4/
LOCATION:Gemeindekirche Herz Jesu\,\, Alte Hauptstr. 61\, Essen-Burgaltendorf\, NRW\, Germany
ATTACH;FMTTYPE=image/jpeg:https://heisingen.de/wp-content/uploads/2024/12/Weihnachtskonzert2024_Plakat-scaled.jpg
END:VEVENT
BEGIN:VEVENT
DTSTART;TZID=Europe/Berlin:20241215T170000
DTEND;TZID=Europe/Berlin:20241215T180000
DTSTAMP:20260422T170119
CREATED:20241209T090504Z
LAST-MODIFIED:20241209T090504Z
UID:2024-1734282000-1734285600@heisingen.de
SUMMARY:Weihnachtskonzert
DESCRIPTION:
URL:https://heisingen.de/event/weihnachtskonzert-3/
LOCATION:Pauluskirche\, Stemmering 15\, Essen\, NRW\, 45259\, Deutschland
ATTACH;FMTTYPE=image/jpeg:https://heisingen.de/wp-content/uploads/2024/12/Weihnachtskonzert-3.jpg
END:VEVENT
END:VCALENDAR