BEGIN:VCALENDAR
VERSION:2.0
PRODID:-//heisingen.de - ECPv6.15.20//NONSGML v1.0//EN
CALSCALE:GREGORIAN
METHOD:PUBLISH
X-WR-CALNAME:heisingen.de
X-ORIGINAL-URL:https://heisingen.de
X-WR-CALDESC:Veranstaltungen für heisingen.de
REFRESH-INTERVAL;VALUE=DURATION:PT1H
X-Robots-Tag:noindex
X-PUBLISHED-TTL:PT1H
BEGIN:VTIMEZONE
TZID:Europe/Berlin
BEGIN:DAYLIGHT
TZOFFSETFROM:+0100
TZOFFSETTO:+0200
TZNAME:CEST
DTSTART:20250330T010000
END:DAYLIGHT
BEGIN:STANDARD
TZOFFSETFROM:+0200
TZOFFSETTO:+0100
TZNAME:CET
DTSTART:20251026T010000
END:STANDARD
BEGIN:DAYLIGHT
TZOFFSETFROM:+0100
TZOFFSETTO:+0200
TZNAME:CEST
DTSTART:20260329T010000
END:DAYLIGHT
BEGIN:STANDARD
TZOFFSETFROM:+0200
TZOFFSETTO:+0100
TZNAME:CET
DTSTART:20261025T010000
END:STANDARD
BEGIN:DAYLIGHT
TZOFFSETFROM:+0100
TZOFFSETTO:+0200
TZNAME:CEST
DTSTART:20270328T010000
END:DAYLIGHT
BEGIN:STANDARD
TZOFFSETFROM:+0200
TZOFFSETTO:+0100
TZNAME:CET
DTSTART:20271031T010000
END:STANDARD
END:VTIMEZONE
BEGIN:VEVENT
DTSTART;TZID=Europe/Berlin:20260202T200000
DTEND;TZID=Europe/Berlin:20260202T213000
DTSTAMP:20260420T082554
CREATED:20260111T125504Z
LAST-MODIFIED:20260112T111540Z
UID:2408-1770062400-1770067800@heisingen.de
SUMMARY:The Erwin Trio im Tongelage
DESCRIPTION:Am 2. Februar um 20 Uhr (Einlass 19.30 Uhr) spielt The Erwin Trio im Heisinger Rathaussaal (Hagmanngarten 5). \n\n\n\nVon der musikalischen Stilistik lässt sich das Trio zwischen Klassik und Jazz verorten. Jazz meets Classic… Es werden nicht nur einige der bekanntesten Werke von Chopin\, Korsako\, Satie\, Mozart\, Piazolla und Bach angespielt\, sondern ebenso Eigenkompositionen der drei Musiker\, sowie Jazz-Standards und französische Chansons der letzten Jahrzehnte. Das Trio erlaubt sich hierbei einige künstlerische Freiheiten im spielerischen Umgang mit den Originalwerken\, verliert dabei aber nicht die kompositorische Absicht des Originals. \n\n\n\nDas Dortmunder Trio setzt sich zusammen aus Ivo Kassel am E-Bass und Kontrabass\, Miroslaw Tybora am Akkordeon und Michael Peters-Thöne am Schlagzeug. https://www.erwin-trio.de/ \n\n\n\nDer Eintritt zum Tongelage ist kostenlos. Spenden sind herzlich willkommen.
URL:https://heisingen.de/event/the-erwin-trio-im-tongelage/
ATTACH;FMTTYPE=image/webp:https://heisingen.de/wp-content/uploads/2026/01/tet.webp
END:VEVENT
END:VCALENDAR