BEGIN:VCALENDAR
VERSION:2.0
PRODID:-//heisingen.de - ECPv6.15.20//NONSGML v1.0//EN
CALSCALE:GREGORIAN
METHOD:PUBLISH
X-ORIGINAL-URL:https://heisingen.de
X-WR-CALDESC:Veranstaltungen für heisingen.de
REFRESH-INTERVAL;VALUE=DURATION:PT1H
X-Robots-Tag:noindex
X-PUBLISHED-TTL:PT1H
BEGIN:VTIMEZONE
TZID:Europe/Berlin
BEGIN:DAYLIGHT
TZOFFSETFROM:+0100
TZOFFSETTO:+0200
TZNAME:CEST
DTSTART:20240331T010000
END:DAYLIGHT
BEGIN:STANDARD
TZOFFSETFROM:+0200
TZOFFSETTO:+0100
TZNAME:CET
DTSTART:20241027T010000
END:STANDARD
BEGIN:DAYLIGHT
TZOFFSETFROM:+0100
TZOFFSETTO:+0200
TZNAME:CEST
DTSTART:20250330T010000
END:DAYLIGHT
BEGIN:STANDARD
TZOFFSETFROM:+0200
TZOFFSETTO:+0100
TZNAME:CET
DTSTART:20251026T010000
END:STANDARD
BEGIN:DAYLIGHT
TZOFFSETFROM:+0100
TZOFFSETTO:+0200
TZNAME:CEST
DTSTART:20260329T010000
END:DAYLIGHT
BEGIN:STANDARD
TZOFFSETFROM:+0200
TZOFFSETTO:+0100
TZNAME:CET
DTSTART:20261025T010000
END:STANDARD
END:VTIMEZONE
BEGIN:VEVENT
DTSTART;TZID=Europe/Berlin:20251103T200000
DTEND;TZID=Europe/Berlin:20251103T220000
DTSTAMP:20260422T153901
CREATED:20251016T131721Z
LAST-MODIFIED:20251016T131823Z
UID:2350-1762200000-1762207200@heisingen.de
SUMMARY:Tongelage mit Shakti und Matze
DESCRIPTION:Bis vor kurzem hießen Sie noch MON MARI ET MOI\, nur treten Sie als SHAKTI UND MATZE auf. Inhaltlich hat sich nichts geändert. \nComedy? Kabarett? Chanson? Rock? Pop? Schlager? Weiterhin lassen sich die beiden schlecht in Schubladen stecken. Erfolg haben sie allemal. So haben sie 2024 den Comedy-/Kabarett-Preis Belziger Bachstelze und gerade frisch den Rock & Pop Preis 2025 in der Sonderkategorie „Bestes Chanson-Album“ gewonnen. Mit viel Humor und Charme erzählt und singt das Duo in ihrer eigenen Poesie von den kleinen und großen\, witzigen und skurrilen Dingen des Alltags. \nDas Konzert im Heisinger Ratssaal (Hagmanngarten 5) am 3. November beginnt um 20 Uhr (Einlass 19.30 Uhr). Der Eintritt ist frei\, Spenden sind herzlich willkommen. \nWer mal reinhören möchte …https://shaktiundmatze.de/videos/
URL:https://heisingen.de/event/tongelage-mit-shakti-und-matze/
LOCATION:Altes Rathaus Heisingen\, Hagmanngarten 5\, Heisingen\, NRW\, 45259\, Deutschland
ATTACH;FMTTYPE=image/jpeg:https://heisingen.de/wp-content/uploads/2025/10/Shakti-und-Matze_Foto_Axel-Schoen_web.jpg
END:VEVENT
END:VCALENDAR